BEGIN:VCALENDAR
VERSION:2.0
PRODID:icalendar-ruby
CALSCALE:GREGORIAN
METHOD:PUBLISH
BEGIN:VEVENT
DTSTAMP:20260422T060953Z
UID:53-648409@powerhousefamilyworshipcenter.com
DTSTART:20260913T210000Z
DTEND:20260913T230000Z
CLASS:PUBLIC
CREATED:20260421T210541
DESCRIPTION:
LAST-MODIFIED:20260421T210541
LOCATION:Powerhouse Family Worship Center 7600 SW 24th Ave\, Gainesville\, 
 FL\, 32607
SUMMARY:Sunday Evening Service
URL;VALUE=URI:https://powerhousefamilyworshipcenter.com/events/sunday-eveni
 ng-service/2026-09-13
ATTACH;FILENAME=dBCA.jpg;FMTTYPE=image/jpeg:https://dq5pwpg1q8ru0.cloudfron
 t.net/2025/07/25/01/45/32/020ebf91-4b46-41d9-8c16-771edc48f0bf/dBCA.jpg
END:VEVENT
END:VCALENDAR
