BEGIN:VCALENDAR
VERSION:2.0
PRODID:icalendar-ruby
CALSCALE:GREGORIAN
METHOD:PUBLISH
BEGIN:VEVENT
DTSTAMP:20260421T090041Z
UID:5-644864@powerhousefamilyworshipcenter.com
DTSTART:20261004T140000Z
DTEND:20261004T150000Z
CLASS:PUBLIC
CREATED:20260420T205047
DESCRIPTION:Sunday Worship
LAST-MODIFIED:20260420T205047
LOCATION:
SUMMARY:Sunday Worship
URL;VALUE=URI:https://powerhousefamilyworshipcenter.com/events/sunday-worsh
 ip/2026-10-04
END:VEVENT
END:VCALENDAR
