BEGIN:VCALENDAR
VERSION:2.0
PRODID:icalendar-ruby
CALSCALE:GREGORIAN
METHOD:PUBLISH
BEGIN:VEVENT
DTSTAMP:20260421T131912Z
UID:5-645411@powerhousefamilyworshipcenter.com
DTSTART:20261025T140000Z
DTEND:20261025T150000Z
CLASS:PUBLIC
CREATED:20260421T075726
DESCRIPTION:Sunday Worship
LAST-MODIFIED:20260421T075726
LOCATION:
SUMMARY:Sunday Worship
URL;VALUE=URI:https://powerhousefamilyworshipcenter.com/events/sunday-worsh
 ip/2026-10-25
END:VEVENT
END:VCALENDAR
