BEGIN:VCALENDAR
VERSION:2.0
PRODID:icalendar-ruby
CALSCALE:GREGORIAN
METHOD:PUBLISH
BEGIN:VEVENT
DTSTAMP:20260421T153839Z
UID:5-645956@powerhousefamilyworshipcenter.com
DTSTART:20261101T150000Z
DTEND:20261101T160000Z
CLASS:PUBLIC
CREATED:20260421T103301
DESCRIPTION:Sunday Worship
LAST-MODIFIED:20260421T103301
LOCATION:
SUMMARY:Sunday Worship
URL;VALUE=URI:https://powerhousefamilyworshipcenter.com/events/sunday-worsh
 ip/2026-11-01
END:VEVENT
END:VCALENDAR
